BEGIN:VCALENDAR
VERSION:2.0
PRODID:-//Volato - ECPv6.6.4.2//NONSGML v1.0//EN
CALSCALE:GREGORIAN
METHOD:PUBLISH
X-WR-CALNAME:Volato
X-ORIGINAL-URL:https://flyvolato.com
X-WR-CALDESC:Events for Volato
REFRESH-INTERVAL;VALUE=DURATION:PT1H
X-Robots-Tag:noindex
X-PUBLISHED-TTL:PT1H
BEGIN:VTIMEZONE
TZID:America/New_York
BEGIN:DAYLIGHT
TZOFFSETFROM:-0500
TZOFFSETTO:-0400
TZNAME:EDT
DTSTART:20230312T070000
END:DAYLIGHT
BEGIN:STANDARD
TZOFFSETFROM:-0400
TZOFFSETTO:-0500
TZNAME:EST
DTSTART:20231105T060000
END:STANDARD
END:VTIMEZONE
BEGIN:VEVENT
DTSTART;TZID=America/New_York:20230920T160000
DTEND;TZID=America/New_York:20230920T200000
DTSTAMP:20260421T060438
CREATED:20230821T125629Z
LAST-MODIFIED:20240306T162349Z
UID:10000004-1695225600-1695240000@flyvolato.com
SUMMARY:Charleston\, SC - HondaJet Elite II Static Event\, September 20th 2023
DESCRIPTION:You’re invited to experience Volato’s fractional fleet\, featuring the HondaJet. \nWe will be hosting our static demonstration on Wednesday\, September 20th in Charleston\, SC. If you are interested in attending\, please click the RSVP button below where you will be forwarded to a form to submit your information. \nIf you have friends and family in the area that have expressed interested in experiencing the HondaJet please feel free to extend this exclusive event link invitation to them.
URL:https://flyvolato.com/event/hondajet-elite-ii-static-event-september-20th-2023/
LOCATION:Signature Flight Support – North Charleston\, 5875 South Aviation Ave.\, North Charleston\, SC\, 29404\, United States
CATEGORIES:Static Demonstrations
ATTACH;FMTTYPE=image/png:https://flyvolato.com/wp-content/uploads/2023/08/Charelston-HondaJet-Static.png
ORGANIZER;CN="Volato":MAILTO:salesoperations@flyvolato.com
END:VEVENT
END:VCALENDAR