BEGIN:VCALENDAR
VERSION:2.0
PRODID:-//Volato - ECPv6.6.4.2//NONSGML v1.0//EN
CALSCALE:GREGORIAN
METHOD:PUBLISH
X-ORIGINAL-URL:https://flyvolato.com
X-WR-CALDESC:Events for Volato
REFRESH-INTERVAL;VALUE=DURATION:PT1H
X-Robots-Tag:noindex
X-PUBLISHED-TTL:PT1H
BEGIN:VTIMEZONE
TZID:America/New_York
BEGIN:DAYLIGHT
TZOFFSETFROM:-0500
TZOFFSETTO:-0400
TZNAME:EDT
DTSTART:20240310T070000
END:DAYLIGHT
BEGIN:STANDARD
TZOFFSETFROM:-0400
TZOFFSETTO:-0500
TZNAME:EST
DTSTART:20241103T060000
END:STANDARD
END:VTIMEZONE
BEGIN:VEVENT
DTSTART;VALUE=DATE:20240603
DTEND;VALUE=DATE:20240604
DTSTAMP:20260420T184801
CREATED:20240429T193724Z
LAST-MODIFIED:20240809T111157Z
UID:10000062-1717372800-1717459199@flyvolato.com
SUMMARY:Professional Asian Pilots Association
DESCRIPTION:Join us at the Professional Asian Pilots Association hiring event at the Westgate Resort and Casino in Las Vegas\, Nevada. PAPA empowers Asian American aviation professionals to connect with industry leaders for a two-day celebration and career fair. \nWe’ll be offering on-the-spot interviews with our HR team to find out how Volato can help take your career to new heights. Join us to explore our current career opportunities and learn all about Volato’s pilot-first work culture.
URL:https://flyvolato.com/event/professional-asian-pilots-association/
LOCATION:Las Vegas\, NV\, Las Vegas\, NV\, Las Vegas\, NV\, United States
CATEGORIES:Pilot Hiring
ATTACH;FMTTYPE=image/jpeg:https://flyvolato.com/wp-content/uploads/2024/04/honda-jet-volato-go-bg.jpg
END:VEVENT
BEGIN:VEVENT
DTSTART;VALUE=DATE:20240612
DTEND;VALUE=DATE:20240613
DTSTAMP:20260420T184801
CREATED:20231207T120748Z
LAST-MODIFIED:20240809T111153Z
UID:10000024-1718150400-1718236799@flyvolato.com
SUMMARY:2024 NBAA White Plains Regional Forum
DESCRIPTION:The northeast regional forum will bring current and prospective business aircraft owners\, operators\, manufacturers\, customers and other essential industry personnel together for a one-day event at the Westchester County Airport. This event will feature over 100 exhibits\, an aircraft display\, and education sessions to help introduce business aviation to local officials and prospective owners and operators\, and to address any current issues in the region.
URL:https://flyvolato.com/event/2024-nbaa-white-plains-regional-forum/
LOCATION:Westchester County Airport (HPN)\, Westchester County Airport (HPN)\, White Plains\, NY\, United States
CATEGORIES:Industry Events
ATTACH;FMTTYPE=image/jpeg:https://flyvolato.com/wp-content/uploads/2023/11/private-jet-1.jpg
ORGANIZER;CN="Volato":MAILTO:salesoperations@flyvolato.com
END:VEVENT
BEGIN:VEVENT
DTSTART;VALUE=DATE:20240615
DTEND;VALUE=DATE:20240616
DTSTAMP:20260420T184801
CREATED:20240429T194321Z
LAST-MODIFIED:20240809T111144Z
UID:10000064-1718409600-1718495999@flyvolato.com
SUMMARY:Future & Active Pilot Advisors
DESCRIPTION:Join us at the free upcoming Future & Active Pilot Advisor event in New York City. Since 1972\, FAPA has aimed to connect recruiters and employers with job-hunting pilots through their monthly hiring events. Take the next step in your pilot career and learn about new flying opportunities throughout the aviation industry.  \nWe’ll be offering on-the-spot interviews with our HR team to discuss our competitive compensation and benefits packages\, our commitment to safety\, and how we cultivate a culture that puts pilots first. Come connect with us and gain a better understanding of what sets Volato apart as a top aviation employer. 
URL:https://flyvolato.com/event/future-active-pilot-advisors-new-york/
LOCATION:Signature West TEB 485 Industrial Ave\, Teterboro\, NJ 07608\, 485 Industrial Ave\, Teterboro\, NJ 07608\, Teterboro\, NJ\, United States
CATEGORIES:Pilot Hiring
ATTACH;FMTTYPE=image/jpeg:https://flyvolato.com/wp-content/uploads/2024/03/discover-gulfstream-bg.jpg
END:VEVENT
END:VCALENDAR