BEGIN:VCALENDAR
VERSION:2.0
PRODID:-//Volato - ECPv6.6.4.2//NONSGML v1.0//EN
CALSCALE:GREGORIAN
METHOD:PUBLISH
X-WR-CALNAME:Volato
X-ORIGINAL-URL:https://flyvolato.com
X-WR-CALDESC:Events for Volato
REFRESH-INTERVAL;VALUE=DURATION:PT1H
X-Robots-Tag:noindex
X-PUBLISHED-TTL:PT1H
BEGIN:VTIMEZONE
TZID:America/New_York
BEGIN:DAYLIGHT
TZOFFSETFROM:-0500
TZOFFSETTO:-0400
TZNAME:EDT
DTSTART:20240310T070000
END:DAYLIGHT
BEGIN:STANDARD
TZOFFSETFROM:-0400
TZOFFSETTO:-0500
TZNAME:EST
DTSTART:20241103T060000
END:STANDARD
END:VTIMEZONE
BEGIN:VEVENT
DTSTART;TZID=America/New_York:20240418T150000
DTEND;TZID=America/New_York:20240418T190000
DTSTAMP:20260420T163435
CREATED:20240402T103203Z
LAST-MODIFIED:20240408T132038Z
UID:10000054-1713452400-1713466800@flyvolato.com
SUMMARY:Atlanta\, GA - HondaJet Elite II Static Event
DESCRIPTION:You’re invited to experience Volato’s fractional fleet\, featuring the HondaJet. \nWe will be hosting our static demonstration on Thursday\, April 18th. If you are interested in attending\, please click the RSVP button below where you will be forwarded to a form to submit your information. \nIf you have friends and family in the area that have expressed interested in experiencing the HondaJet please feel free to extend this exclusive event link invitation to them.
URL:https://flyvolato.com/event/atlanta-ga-hondajet-elite-ii-static-event/
LOCATION:Atlantic PDK\, GA\, 2040 Airport Rd.\, Atlanta\, GA\, United States
CATEGORIES:Static Demonstrations
ATTACH;FMTTYPE=image/jpeg:https://flyvolato.com/wp-content/uploads/2024/04/HondaJet-Volato.jpg
END:VEVENT
BEGIN:VEVENT
DTSTART;VALUE=DATE:20240427
DTEND;VALUE=DATE:20240428
DTSTAMP:20260420T163435
CREATED:20240429T192447Z
LAST-MODIFIED:20240429T192447Z
UID:10000059-1714176000-1714262399@flyvolato.com
SUMMARY:Future & Active Pilot Advisors
DESCRIPTION:Join us at the free upcoming Future & Active Pilot Advisor event in Atlanta\, Georgia. Since 1972\, FAPA has aimed to connect recruiters and employers with job-hunting pilots through their monthly hiring events. Take the next step in your pilot career and learn about new flying opportunities throughout the aviation industry. \nWe’ll be offering on-the-spot interviews with our HR team to discuss our competitive compensation and benefits packages\, our commitment to safety\, and how we cultivate a culture that puts pilots first. Come connect with us and gain a better understanding of what sets Volato apart as a top aviation employer.
URL:https://flyvolato.com/event/future-active-pilot-advisors-atlanta-georgia/
LOCATION:Atlantic PDK 2040 Airport Rd\, Atlanta\, GA 30341\, 2040 Airport Rd\, Atlanta\, GA 30341\, Atlanta\, GA\, United States
CATEGORIES:Pilot Hiring
ATTACH;FMTTYPE=image/jpeg:https://flyvolato.com/wp-content/uploads/2024/04/honda-jet-volato-go-bg.jpg
END:VEVENT
BEGIN:VEVENT
DTSTART;TZID=America/New_York:20240430T000000
DTEND;TZID=America/New_York:20240502T235900
DTSTAMP:20260420T163435
CREATED:20240429T192640Z
LAST-MODIFIED:20240429T201853Z
UID:10000060-1714435200-1714694340@flyvolato.com
SUMMARY:NBAA Maintenance Conference
DESCRIPTION:We’ll be attending this year’s NBAA Maintenance Conference in Portland\, Oregon\, to stay up-to-date with industry best practices and innovations in airline maintenance. From pilots to dispatchers\, this weekend-long event will provide all aviation professionals with tools and new knowledge to succeed in their roles. Enjoy three days of educational sessions and networking opportunities with top aviation professionals. \nSwing by the Volato booth to meet with our team and discuss our continued commitment to safety and excellence in aviation.
URL:https://flyvolato.com/event/nbaa-maintenance-conference/
LOCATION:Portland\, OR\, Portland\, OR\, Portland\, FL\, United States
CATEGORIES:Industry Events
ATTACH;FMTTYPE=image/jpeg:https://flyvolato.com/wp-content/uploads/2024/04/mountain-jet.jpg
END:VEVENT
END:VCALENDAR