BEGIN:VCALENDAR
VERSION:2.0
PRODID:-//Volato - ECPv6.6.4.2//NONSGML v1.0//EN
CALSCALE:GREGORIAN
METHOD:PUBLISH
X-WR-CALNAME:Volato
X-ORIGINAL-URL:https://flyvolato.com
X-WR-CALDESC:Events for Volato
REFRESH-INTERVAL;VALUE=DURATION:PT1H
X-Robots-Tag:noindex
X-PUBLISHED-TTL:PT1H
BEGIN:VTIMEZONE
TZID:America/Chicago
BEGIN:DAYLIGHT
TZOFFSETFROM:-0600
TZOFFSETTO:-0500
TZNAME:CDT
DTSTART:20240310T080000
END:DAYLIGHT
BEGIN:STANDARD
TZOFFSETFROM:-0500
TZOFFSETTO:-0600
TZNAME:CST
DTSTART:20241103T070000
END:STANDARD
TZID:America/Los_Angeles
BEGIN:DAYLIGHT
TZOFFSETFROM:-0800
TZOFFSETTO:-0700
TZNAME:PDT
DTSTART:20240310T100000
END:DAYLIGHT
BEGIN:STANDARD
TZOFFSETFROM:-0700
TZOFFSETTO:-0800
TZNAME:PST
DTSTART:20241103T090000
END:STANDARD
END:VTIMEZONE
BEGIN:VEVENT
DTSTART;TZID=America/Chicago:20240213T150000
DTEND;TZID=America/Chicago:20240213T190000
DTSTAMP:20260422T124132
CREATED:20240129T125506Z
LAST-MODIFIED:20240306T162200Z
UID:10000032-1707836400-1707850800@flyvolato.com
SUMMARY:Austin\, TX  - HondaJet Elite II Static Event
DESCRIPTION:You’re invited to experience Volato’s fractional fleet\, featuring the HondaJet. \nWe will be hosting our static demonstration on Tuesday\, February 13\, in Austin\, TX. If you are interested in attending\, please click the RSVP button below where you will be forwarded to a form to submit your information. \nIf you have friends and family in the area that have expressed interested in experiencing the HondaJet please feel free to extend this exclusive event link invitation to them.
URL:https://flyvolato.com/event/austin-tx-hondajet-elite-ii-static-event/
LOCATION:Austin\, TX – Million Air\, 4801 Emma Browning Ave\, Austin\, TX\, 78719\, United States
CATEGORIES:Static Demonstrations
ATTACH;FMTTYPE=image/png:https://flyvolato.com/wp-content/uploads/2024/01/Austin-Texas-VolatoStatic.png
END:VEVENT
BEGIN:VEVENT
DTSTART;TZID=America/Los_Angeles:20240221T150000
DTEND;TZID=America/Los_Angeles:20240221T190000
DTSTAMP:20260422T124132
CREATED:20240202T174447Z
LAST-MODIFIED:20240306T162155Z
UID:10000035-1708527600-1708542000@flyvolato.com
SUMMARY:Carlsbad\, CA - HondaJet Elite II Static Event
DESCRIPTION:You’re invited to experience Volato’s fractional fleet\, featuring the HondaJet. \nWe will be hosting our static demonstration on Wednesday\, February 21st. If you are interested in attending\, please click the RSVP button below where you will be forwarded to a form to submit your information. \nIf you have friends and family in the area that have expressed interested in experiencing the HondaJet please feel free to extend this exclusive event link invitation to them.
URL:https://flyvolato.com/event/san-diego-ca-hondajet-elite-ii-static-event/
LOCATION:San Diego\, Atlantic Aviation\, 2100 Palomar Airport Rd.\, Carlsbad\, CA\, 92011\, United States
CATEGORIES:Static Demonstrations
ATTACH;FMTTYPE=image/png:https://flyvolato.com/wp-content/uploads/2024/02/SanDiego-StaticImage.png
END:VEVENT
END:VCALENDAR