BEGIN:VCALENDAR
VERSION:2.0
PRODID:-//Volato - ECPv6.6.4.2//NONSGML v1.0//EN
CALSCALE:GREGORIAN
METHOD:PUBLISH
X-ORIGINAL-URL:https://flyvolato.com
X-WR-CALDESC:Events for Volato
REFRESH-INTERVAL;VALUE=DURATION:PT1H
X-Robots-Tag:noindex
X-PUBLISHED-TTL:PT1H
BEGIN:VTIMEZONE
TZID:America/Los_Angeles
BEGIN:DAYLIGHT
TZOFFSETFROM:-0800
TZOFFSETTO:-0700
TZNAME:PDT
DTSTART:20240310T100000
END:DAYLIGHT
BEGIN:STANDARD
TZOFFSETFROM:-0700
TZOFFSETTO:-0800
TZNAME:PST
DTSTART:20241103T090000
END:STANDARD
TZID:America/New_York
BEGIN:DAYLIGHT
TZOFFSETFROM:-0500
TZOFFSETTO:-0400
TZNAME:EDT
DTSTART:20240310T070000
END:DAYLIGHT
BEGIN:STANDARD
TZOFFSETFROM:-0400
TZOFFSETTO:-0500
TZNAME:EST
DTSTART:20241103T060000
END:STANDARD
END:VTIMEZONE
BEGIN:VEVENT
DTSTART;TZID=America/Los_Angeles:20240117T150000
DTEND;TZID=America/Los_Angeles:20240117T190000
DTSTAMP:20260422T143916
CREATED:20240102T171658Z
LAST-MODIFIED:20240306T162205Z
UID:10000031-1705503600-1705518000@flyvolato.com
SUMMARY:Van Nuys  - HondaJet Elite II Static Event
DESCRIPTION:You’re invited to experience Volato’s fractional fleet\, featuring the HondaJet. \nWe will be hosting our static demonstration on Wednesday\, January 17\, in Van Nuys\, CA. If you are interested in attending\, please click the RSVP button below where you will be forwarded to a form to submit your information. \nIf you have friends and family in the area that have expressed interested in experiencing the HondaJet please feel free to extend this exclusive event link invitation to them.
URL:https://flyvolato.com/event/van-nuys-hondajet-elite-ii-static-event/
LOCATION:Austin\, TX – Million Air\, 4801 Emma Browning Ave\, Austin\, TX\, 78719\, United States
CATEGORIES:Static Demonstrations
ATTACH;FMTTYPE=image/png:https://flyvolato.com/wp-content/uploads/2024/01/VanNuys-CA.png
END:VEVENT
BEGIN:VEVENT
DTSTART;VALUE=DATE:20240131
DTEND;VALUE=DATE:20240201
DTSTAMP:20260422T143916
CREATED:20231130T185156Z
LAST-MODIFIED:20231228T110503Z
UID:10000018-1706659200-1706745599@flyvolato.com
SUMMARY:2024 NBAA Miami-Opa locka Regional Forum
DESCRIPTION:The Southeast regional forum will bring current and prospective business aircraft owners\, operators\, manufacturers\, customers and other essential industry personnel together for a one-day event at the Miami-Opa locka Executive Airport. This event will feature over 150 exhibits\, an aircraft display and education sessions to help introduce business aviation to local officials and prospective owners and operators\, and to address any current issues in the region.
URL:https://flyvolato.com/event/2024-nbaa-miami-opa-locka-regional-forum/
LOCATION:Miami-Opa Locka Executive Airport (OPF)\, Miami-Opa locka Executive Airport (OPF)\, Opa-locka\, FL\, United States
ATTACH;FMTTYPE=image/jpeg:https://flyvolato.com/wp-content/uploads/2023/10/hondajet-charter-3.jpg
END:VEVENT
END:VCALENDAR