BEGIN:VCALENDAR
VERSION:2.0
PRODID:-//Volato - ECPv6.6.4.2//NONSGML v1.0//EN
CALSCALE:GREGORIAN
METHOD:PUBLISH
X-ORIGINAL-URL:https://flyvolato.com
X-WR-CALDESC:Events for Volato
REFRESH-INTERVAL;VALUE=DURATION:PT1H
X-Robots-Tag:noindex
X-PUBLISHED-TTL:PT1H
BEGIN:VTIMEZONE
TZID:America/New_York
BEGIN:DAYLIGHT
TZOFFSETFROM:-0500
TZOFFSETTO:-0400
TZNAME:EDT
DTSTART:20240310T070000
END:DAYLIGHT
BEGIN:STANDARD
TZOFFSETFROM:-0400
TZOFFSETTO:-0500
TZNAME:EST
DTSTART:20241103T060000
END:STANDARD
END:VTIMEZONE
BEGIN:VEVENT
DTSTART;TZID=America/New_York:20240515T000000
DTEND;TZID=America/New_York:20240519T235900
DTSTAMP:20260420T163545
CREATED:20240429T193255Z
LAST-MODIFIED:20240509T202217Z
UID:10000061-1715731200-1716163140@flyvolato.com
SUMMARY:Nantucket Wine & Food Festival
DESCRIPTION:Volato is proud to be an official sponsor of the Nantucket Food and Wine Festival\, a prestigious event held on Nantucket Island from May 15th through the 19th. \nFounded by Denis Toner in collaboration with island purveyors\, restaurants\, and retailers\, the festival draws over 3000 attendees annually to celebrate the island’s food and wine culture. This event showcases renowned chefs and wineries\, solidifying Nantucket as a premier culinary destination. \nIf you’re interested in flying to this event with Volato\, we’re providing an exclusive offer when you travel to or from select locations. This offer is available on flights to and from Teterboro\, Westchester\, and Bedford. Reach out to our team to take advantage of this offer.
URL:https://flyvolato.com/event/nantucket-food-and-wine-festival/
LOCATION:Nantucket\, MA\, Nantucket\, MA\, Nantucket\, MA\, United States
CATEGORIES:Partnership
ATTACH;FMTTYPE=image/jpeg:https://flyvolato.com/wp-content/uploads/2024/04/Volato-HondaJet-Delivery.jpg
END:VEVENT
END:VCALENDAR