BEGIN:VCALENDAR
VERSION:2.0
PRODID:-//Volato - ECPv6.6.4.2//NONSGML v1.0//EN
CALSCALE:GREGORIAN
METHOD:PUBLISH
X-WR-CALNAME:Volato
X-ORIGINAL-URL:https://flyvolato.com
X-WR-CALDESC:Events for Volato
REFRESH-INTERVAL;VALUE=DURATION:PT1H
X-Robots-Tag:noindex
X-PUBLISHED-TTL:PT1H
BEGIN:VTIMEZONE
TZID:America/New_York
BEGIN:DAYLIGHT
TZOFFSETFROM:-0500
TZOFFSETTO:-0400
TZNAME:EDT
DTSTART:20240310T070000
END:DAYLIGHT
BEGIN:STANDARD
TZOFFSETFROM:-0400
TZOFFSETTO:-0500
TZNAME:EST
DTSTART:20241103T060000
END:STANDARD
END:VTIMEZONE
BEGIN:VEVENT
DTSTART;VALUE=DATE:20240321
DTEND;VALUE=DATE:20240324
DTSTAMP:20260420T205353
CREATED:20240227T185233Z
LAST-MODIFIED:20240308T123128Z
UID:10000039-1710979200-1711238399@flyvolato.com
SUMMARY:2024 Women in Aviation International Conference (Pilot Hiring)
DESCRIPTION:Please mark your calendar as you won’t want to miss the inspiring keynote speakers\, professional development seminars\, education sessions\, exhibit hall\, scholarship awards\, and 2024 Pioneer Hall of Fame inductions. During this event\, we’ll be conducting on-the-spot interviews for pilot and non-pilot positions. Please bring your resume and stop by booth #818. We look forward to seeing you at the 2024 Women in Aviation International Conference.
URL:https://flyvolato.com/event/women-in-aviation-intl-conference-pilot-hiring/
LOCATION:Orlando World Center Marriott\, Orlando World Center Marriott\, Orlando\, FL\, United States
CATEGORIES:Pilot Hiring
ATTACH;FMTTYPE=image/jpeg:https://flyvolato.com/wp-content/uploads/2024/02/hondajet-right-gray-7680-alpha-1.jpg
ORGANIZER;CN="Volato":MAILTO:salesoperations@flyvolato.com
END:VEVENT
BEGIN:VEVENT
DTSTART;VALUE=DATE:20240321
DTEND;VALUE=DATE:20240324
DTSTAMP:20260420T205353
CREATED:20231130T185039Z
LAST-MODIFIED:20240306T162132Z
UID:10000020-1711008000-1711213200@flyvolato.com
SUMMARY:2024 Women in Aviation International Conference
DESCRIPTION:Please mark your calendar as you won’t want to miss the inspiring keynote speakers\, professional development seminars\, education sessions\, exhibit hall\, scholarship awards\, and 2024 Pioneer Hall of Fame inductions. \nThere’s no better place to be inspired\, share your enthusiasm\, and connect with others who share your passion for the aviation industry. We look forward to gathering to connect\, engage\, and inspire with our valued members.
URL:https://flyvolato.com/event/2024-women-in-aviation-international-conference/
LOCATION:Orlando World Center Marriott\, Orlando World Center Marriott\, Orlando\, FL\, United States
CATEGORIES:Industry Events
ATTACH;FMTTYPE=image/jpeg:https://flyvolato.com/wp-content/uploads/2023/10/king-air-charter-4.jpg
END:VEVENT
END:VCALENDAR