BEGIN:VCALENDAR
VERSION:2.0
PRODID:-//Volato - ECPv6.6.4.2//NONSGML v1.0//EN
CALSCALE:GREGORIAN
METHOD:PUBLISH
X-WR-CALNAME:Volato
X-ORIGINAL-URL:https://flyvolato.com
X-WR-CALDESC:Events for Volato
REFRESH-INTERVAL;VALUE=DURATION:PT1H
X-Robots-Tag:noindex
X-PUBLISHED-TTL:PT1H
BEGIN:VTIMEZONE
TZID:America/New_York
BEGIN:DAYLIGHT
TZOFFSETFROM:-0500
TZOFFSETTO:-0400
TZNAME:EDT
DTSTART:20240310T070000
END:DAYLIGHT
BEGIN:STANDARD
TZOFFSETFROM:-0400
TZOFFSETTO:-0500
TZNAME:EST
DTSTART:20241103T060000
END:STANDARD
END:VTIMEZONE
BEGIN:VEVENT
DTSTART;VALUE=DATE:20240312
DTEND;VALUE=DATE:20240315
DTSTAMP:20260420T204337
CREATED:20231130T185218Z
LAST-MODIFIED:20240306T162150Z
UID:10000019-1710230400-1710435600@flyvolato.com
SUMMARY:2024 NBAA Schedulers & Dispatchers Conference (SDC2024)
DESCRIPTION:Discover unmatched opportunities at the industry’s best business aviation scheduling and dispatching event! SDC2024 is the place to be if you’re ready to enhance your logistical planning\, and experience the most advanced dispatch technologies and leading-edge equipment designed to drive your flight department operations towards success. Stay up-to-date with the best scheduling and dispatching practices through expert-lead education sessions\, while enjoying an unparalleled networking experience and an opportunity to connect with hundreds of exhibitors showcasing top flight business aviation services. Mark your calendar and start making plans to attend this unique event that you won’t want to miss!
URL:https://flyvolato.com/event/2024-nbaa-schedulers-dispatchers-conference-sdc2024/
LOCATION:Fort Worth Convention Center\, Fort Worth Convention Center\, Fort Worth\, TX\, United States
CATEGORIES:Industry Events
ATTACH;FMTTYPE=image/jpeg:https://flyvolato.com/wp-content/uploads/2023/10/gulfstream-g280.jpg
END:VEVENT
END:VCALENDAR